BEGIN:VCALENDAR
VERSION:2.0
PRODID:-//Eventin//Event Calendar//EN
CALSCALE:GREGORIAN
METHOD:PUBLISH
BEGIN:VEVENT
UID:d1e132099a4e51517a9f3d0b6f096ccc@rkusi.org
SUMMARY:Joint Sundowner Event with RCMI Kingston - 29 July 2026
DESCRIPTION:There will be a joint RCMI/RKUSI social event for both members 
 and spouses/partners. We are planning a sundowner event at Fort Frontenac 
 on Wed 29 July and will use both the indoor and patio facilities\; we will 
 offer a very attractive array of hors d’oeuvres and more\, at a very affo
 rdable price per person.\nTiming – 1800- 2100 hours TBC
LOCATION:FFOM
DTSTAMP:20260423T181324Z
DTSTART:20261008T000000Z
DTEND:20261024T160000Z
END:VEVENT
END:VCALENDAR
